250.00000000000000
0.0
0.0
-250.00000000000000
139324.00000000000
4768580.0000000000
