250.000000000000000
0.000000000000000
0.000000000000000
-250.000000000000000
139324.000000000000000
4768580.000000000000000
